BEGIN:VCALENDAR
VERSION:2.0
PRODID:-//Document Security Alliance : DSA - ECPv6.15.19//NONSGML v1.0//EN
CALSCALE:GREGORIAN
METHOD:PUBLISH
X-WR-CALNAME:Document Security Alliance : DSA
X-ORIGINAL-URL:https://documentsecurityalliance.org
X-WR-CALDESC:Events for Document Security Alliance : DSA
REFRESH-INTERVAL;VALUE=DURATION:PT1H
X-Robots-Tag:noindex
X-PUBLISHED-TTL:PT1H
BEGIN:VTIMEZONE
TZID:America/New_York
BEGIN:DAYLIGHT
TZOFFSETFROM:-0500
TZOFFSETTO:-0400
TZNAME:EDT
DTSTART:20230312T070000
END:DAYLIGHT
BEGIN:STANDARD
TZOFFSETFROM:-0400
TZOFFSETTO:-0500
TZNAME:EST
DTSTART:20231105T060000
END:STANDARD
BEGIN:DAYLIGHT
TZOFFSETFROM:-0500
TZOFFSETTO:-0400
TZNAME:EDT
DTSTART:20240310T070000
END:DAYLIGHT
BEGIN:STANDARD
TZOFFSETFROM:-0400
TZOFFSETTO:-0500
TZNAME:EST
DTSTART:20241103T060000
END:STANDARD
BEGIN:DAYLIGHT
TZOFFSETFROM:-0500
TZOFFSETTO:-0400
TZNAME:EDT
DTSTART:20250309T070000
END:DAYLIGHT
BEGIN:STANDARD
TZOFFSETFROM:-0400
TZOFFSETTO:-0500
TZNAME:EST
DTSTART:20251102T060000
END:STANDARD
BEGIN:DAYLIGHT
TZOFFSETFROM:-0500
TZOFFSETTO:-0400
TZNAME:EDT
DTSTART:20260308T070000
END:DAYLIGHT
BEGIN:STANDARD
TZOFFSETFROM:-0400
TZOFFSETTO:-0500
TZNAME:EST
DTSTART:20261101T060000
END:STANDARD
END:VTIMEZONE
BEGIN:VEVENT
DTSTART;TZID=America/New_York:20250312T000000
DTEND;TZID=America/New_York:20250313T000000
DTSTAMP:20260422T104216
CREATED:20241116T011926Z
LAST-MODIFIED:20241116T014114Z
UID:1762-1741737600-1741824000@documentsecurityalliance.org
SUMMARY:AAMVA 2024 Workshop & Law Institute
DESCRIPTION:Salt Lake City\, UT\nMarch 12 – 13\, 2025
URL:https://documentsecurityalliance.org/conference/aamva-2024-workshop-law-institute-2/
CATEGORIES:DSA not participating,Events,Meetings
END:VEVENT
BEGIN:VEVENT
DTSTART;TZID=America/New_York:20250224T000000
DTEND;TZID=America/New_York:20250226T000000
DTSTAMP:20260422T104216
CREATED:20241116T010326Z
LAST-MODIFIED:20241213T222621Z
UID:1758-1740355200-1740528000@documentsecurityalliance.org
SUMMARY:Secure Technology Alliance Summit
DESCRIPTION:San Diego\, California\nFebruary 24 –  26\, 2025
URL:https://documentsecurityalliance.org/conference/secure-technology-alliance-summit-san-diego-ca/
CATEGORIES:DSA not participating,Events,Meetings
END:VEVENT
BEGIN:VEVENT
DTSTART;VALUE=DATE:20241202
DTEND;VALUE=DATE:20241205
DTSTAMP:20260422T104216
CREATED:20231230T010946Z
LAST-MODIFIED:20240718T212633Z
UID:488-1733097600-1733356799@documentsecurityalliance.org
SUMMARY:High Security Printing Asia
DESCRIPTION:Bangkok\, Thailand\nUPDATED: December 2 – 4\, 2024
URL:https://documentsecurityalliance.org/conference/high-security-printing-asia/
CATEGORIES:DSA not participating,Events
END:VEVENT
BEGIN:VEVENT
DTSTART;VALUE=DATE:20241022
DTEND;VALUE=DATE:20241024
DTSTAMP:20260422T104216
CREATED:20240104T180517Z
LAST-MODIFIED:20240308T132451Z
UID:526-1729555200-1729727999@documentsecurityalliance.org
SUMMARY:Identity Week Asia
DESCRIPTION:Singapore\nOctober 22 – 23\, 2024
URL:https://documentsecurityalliance.org/conference/identity-week-asia/
CATEGORIES:DSA not participating,Events,Meetings
END:VEVENT
BEGIN:VEVENT
DTSTART;VALUE=DATE:20240930
DTEND;VALUE=DATE:20241004
DTSTAMP:20260422T104216
CREATED:20240104T183642Z
LAST-MODIFIED:20240104T183642Z
UID:528-1727654400-1727999999@documentsecurityalliance.org
SUMMARY:Global Currency Forum
DESCRIPTION:Muscat\, Oman\nSeptember 30 – October 3\, 2024
URL:https://documentsecurityalliance.org/conference/global-currency-forum/
CATEGORIES:DSA not participating,Events
END:VEVENT
BEGIN:VEVENT
DTSTART;VALUE=DATE:20240604
DTEND;VALUE=DATE:20240607
DTSTAMP:20260422T104216
CREATED:20240104T185529Z
LAST-MODIFIED:20240104T185529Z
UID:545-1717459200-1717718399@documentsecurityalliance.org
SUMMARY:IBMATA Border Management & Technologies Summit
DESCRIPTION:Miami\, Florida\nJune 4 – 6\, 2024
URL:https://documentsecurityalliance.org/conference/ibmata-border-management-technologies-summit/
CATEGORIES:DSA not participating,Events
END:VEVENT
BEGIN:VEVENT
DTSTART;VALUE=DATE:20240603
DTEND;VALUE=DATE:20240606
DTSTAMP:20260422T104216
CREATED:20240104T185809Z
LAST-MODIFIED:20240201T202628Z
UID:547-1717372800-1717631999@documentsecurityalliance.org
SUMMARY:High Security Printing Latin America
DESCRIPTION:Santiago\, Chile\nJune 3 – 5\, 2024
URL:https://documentsecurityalliance.org/conference/high-security-printing-latin-america/
CATEGORIES:DSA not participating,Events
END:VEVENT
BEGIN:VEVENT
DTSTART;VALUE=DATE:20240521
DTEND;VALUE=DATE:20240525
DTSTAMP:20260422T104216
CREATED:20240104T190226Z
LAST-MODIFIED:20240201T202435Z
UID:551-1716249600-1716595199@documentsecurityalliance.org
SUMMARY:ID for Africa
DESCRIPTION:Cape Town\, South Africa\nMay 21 – 24\, 2024
URL:https://documentsecurityalliance.org/conference/id-for-africa/
CATEGORIES:DSA not participating,Events
END:VEVENT
BEGIN:VEVENT
DTSTART;VALUE=DATE:20240513
DTEND;VALUE=DATE:20240516
DTSTAMP:20260422T104216
CREATED:20240104T190659Z
LAST-MODIFIED:20240221T234632Z
UID:555-1715558400-1715817599@documentsecurityalliance.org
SUMMARY:Banknote Conference
DESCRIPTION:Fort Worth\, Texas\nMay 13 – 15\, 2024
URL:https://documentsecurityalliance.org/conference/banknote-conference/
CATEGORIES:DSA not participating,Events
END:VEVENT
BEGIN:VEVENT
DTSTART;VALUE=DATE:20240304
DTEND;VALUE=DATE:20240307
DTSTAMP:20260422T104216
CREATED:20240104T191257Z
LAST-MODIFIED:20240201T165231Z
UID:563-1709510400-1709769599@documentsecurityalliance.org
SUMMARY:High Security Printing EMEA
DESCRIPTION:Sophia\, Bulgaria\nMarch 4 – 6\, 2024
URL:https://documentsecurityalliance.org/conference/high-security-printing-emea/
CATEGORIES:DSA not participating,Events
END:VEVENT
END:VCALENDAR