BEGIN:VCALENDAR
VERSION:2.0
PRODID:-//Document Security Alliance : DSA - ECPv6.15.19//NONSGML v1.0//EN
CALSCALE:GREGORIAN
METHOD:PUBLISH
X-WR-CALNAME:Document Security Alliance : DSA
X-ORIGINAL-URL:https://documentsecurityalliance.org
X-WR-CALDESC:Events for Document Security Alliance : DSA
REFRESH-INTERVAL;VALUE=DURATION:PT1H
X-Robots-Tag:noindex
X-PUBLISHED-TTL:PT1H
BEGIN:VTIMEZONE
TZID:America/New_York
BEGIN:DAYLIGHT
TZOFFSETFROM:-0500
TZOFFSETTO:-0400
TZNAME:EDT
DTSTART:20250309T070000
END:DAYLIGHT
BEGIN:STANDARD
TZOFFSETFROM:-0400
TZOFFSETTO:-0500
TZNAME:EST
DTSTART:20251102T060000
END:STANDARD
BEGIN:DAYLIGHT
TZOFFSETFROM:-0500
TZOFFSETTO:-0400
TZNAME:EDT
DTSTART:20260308T070000
END:DAYLIGHT
BEGIN:STANDARD
TZOFFSETFROM:-0400
TZOFFSETTO:-0500
TZNAME:EST
DTSTART:20261101T060000
END:STANDARD
BEGIN:DAYLIGHT
TZOFFSETFROM:-0500
TZOFFSETTO:-0400
TZNAME:EDT
DTSTART:20270314T070000
END:DAYLIGHT
BEGIN:STANDARD
TZOFFSETFROM:-0400
TZOFFSETTO:-0500
TZNAME:EST
DTSTART:20271107T060000
END:STANDARD
END:VTIMEZONE
BEGIN:VEVENT
DTSTART;VALUE=DATE:20260317
DTEND;VALUE=DATE:20260319
DTSTAMP:20260424T004120
CREATED:20251120T174540Z
LAST-MODIFIED:20260302T161604Z
UID:3499-1773705600-1773878399@documentsecurityalliance.org
SUMMARY:AAMVA 2026 Workshop & Law Institute (Louisville\, KY)
DESCRIPTION:March 17 – 18\, 2026
URL:https://documentsecurityalliance.org/conference/aamva-2026-workshop-law-institute-louisville-ky/
CATEGORIES:DSA,DSA may attend/speak,Events,Meetings
END:VEVENT
BEGIN:VEVENT
DTSTART;VALUE=DATE:20260331
DTEND;VALUE=DATE:20260403
DTSTAMP:20260424T004120
CREATED:20251120T175422Z
LAST-MODIFIED:20260302T161632Z
UID:3505-1774915200-1775174399@documentsecurityalliance.org
SUMMARY:InCyber Forum (Lille\, France)
DESCRIPTION:March 31 – April 2\, 2026
URL:https://documentsecurityalliance.org/conference/incyber-forum-lille-france/
CATEGORIES:DSA,DSA may attend/speak,Events,Meetings
END:VEVENT
BEGIN:VEVENT
DTSTART;VALUE=DATE:20260922
DTEND;VALUE=DATE:20260925
DTSTAMP:20260424T004120
CREATED:20251120T190253Z
LAST-MODIFIED:20260302T161918Z
UID:3541-1790035200-1790294399@documentsecurityalliance.org
SUMMARY:September 22-24 – ICAO TRIP (Montreal\, Canada)
DESCRIPTION:September 22 – 24\, 2026
URL:https://documentsecurityalliance.org/conference/september-22-24-icao-trip-montreal-canada/
CATEGORIES:DSA,DSA may attend/speak,Events,Meetings
END:VEVENT
BEGIN:VEVENT
DTSTART;VALUE=DATE:20260929
DTEND;VALUE=DATE:20261002
DTSTAMP:20260424T004120
CREATED:20251120T190621Z
LAST-MODIFIED:20260302T161928Z
UID:3545-1790640000-1790899199@documentsecurityalliance.org
SUMMARY:AAMVA AIC (Providence\, RI)
DESCRIPTION:September 29 – October 1\, 2026
URL:https://documentsecurityalliance.org/conference/aamva-aic-providence-ri/
CATEGORIES:DSA,DSA may attend/speak,Events,Meetings
END:VEVENT
BEGIN:VEVENT
DTSTART;VALUE=DATE:20261013
DTEND;VALUE=DATE:20261017
DTSTAMP:20260424T004120
CREATED:20251120T190851Z
LAST-MODIFIED:20260302T161931Z
UID:3547-1791849600-1792195199@documentsecurityalliance.org
SUMMARY:INTERGRAF (Copenhagen\, Denmark)
DESCRIPTION:October 13 – 16\, 2026
URL:https://documentsecurityalliance.org/conference/intergraf-copenhagen-denmark/
CATEGORIES:DSA,DSA may attend/speak,Events,Meetings
END:VEVENT
END:VCALENDAR